BEGIN:VCALENDAR
VERSION:2.0
PRODID:-//RoseAngel Guidance - ECPv6.15.20//NONSGML v1.0//EN
CALSCALE:GREGORIAN
METHOD:PUBLISH
X-ORIGINAL-URL:https://roseangelguidance.com
X-WR-CALDESC:Events for RoseAngel Guidance
REFRESH-INTERVAL;VALUE=DURATION:PT1H
X-Robots-Tag:noindex
X-PUBLISHED-TTL:PT1H
BEGIN:VTIMEZONE
TZID:UTC
BEGIN:STANDARD
TZOFFSETFROM:+0000
TZOFFSETTO:+0000
TZNAME:UTC
DTSTART:20210101T000000
END:STANDARD
END:VTIMEZONE
BEGIN:VEVENT
DTSTART;TZID=UTC:20240206T190000
DTEND;TZID=UTC:20240206T210000
DTSTAMP:20260424T004136
CREATED:20240205T160602Z
LAST-MODIFIED:20240205T213513Z
UID:1598-1707246000-1707253200@roseangelguidance.com
SUMMARY:Class - Become an Automatic Writer
DESCRIPTION:Have you ever wondered what it would be like to communicate with Infinite Intelligence?  Did you know that we all have the ability to connect with the answers to our questions? \nDiscover how to tap into your higher guidance\, and learn the tools needed to let go of any blocks which keep you from receiving messages.  You will find in this entertaining class of connecting with your own inner guides\, the ability to open doors to vast understanding. \nParticipants will use the guide booklet ‘Become an Automatic Writer’\, for ease in following all the steps and directions discussed in class. \nCome join us\, and by the end of this class you will be an Automatic Writer!
URL:https://roseangelguidance.com/event/class-become-an-automatic-writer/
LOCATION:The Gathering Lighthouse\, 26 North Park Avenue\, Lombard\, IL\, 60148\, United States
CATEGORIES:Angel Guidance Class
ORGANIZER;CN="The Gathering Lighthouse":MAILTO:thegatheringlighthouse@gmail.com
END:VEVENT
BEGIN:VEVENT
DTSTART;TZID=UTC:20220815T190000
DTEND;TZID=UTC:20220815T210000
DTSTAMP:20260424T004136
CREATED:20220720T213220Z
LAST-MODIFIED:20220720T225814Z
UID:1400-1660590000-1660597200@roseangelguidance.com
SUMMARY:Angel Guidance Class – Healing the Hurt
DESCRIPTION:gefHealing the Hurt \nHealing is tricky because you are stuck in the sadness\, but wanting to change while still being sad.  The hurt is real\, but what good comes from hurting?  Yet letting go of the hurt feels like you are letting go of the issue that brought the pain\, and you may not be ready for that\, for that pain is real also. \nIn this class the Angels will help guide you to understand every discomfort started with resistance within the self.  As the issue becomes more difficult\, so does the need to change – for that is what you wanted in the first place.   You will learn techniques which will help you understand why you attracted this discomfort in the first place\, so you can focus on changing your beliefs\, and attracting what is wanted. \nCome join Rose Reaves for inspirational classes that will change the way you live your life.  For the past decade\, Rose has been working with clients by sharing their Angel’s Messages and offering clarity to the questions which arise.   It wasn’t long before she noticed many of her clients receive the same guidance from the Angels.  Wanting to benefit more people\, Rose has taken the top three messages she has repeatedly received and is offering Monday night classes to go over in detail what the Angels have to say on each topic.
URL:https://roseangelguidance.com/event/angel-guidance-class-healing-the-hurt/
LOCATION:The Gathering Lighthouse\, 26 North Park Avenue\, Lombard\, IL\, 60148\, United States
CATEGORIES:Angel Guidance Class
ORGANIZER;CN="The Gathering Lighthouse":MAILTO:thegatheringlighthouse@gmail.com
END:VEVENT
BEGIN:VEVENT
DTSTART;TZID=UTC:20220808T190000
DTEND;TZID=UTC:20220808T210000
DTSTAMP:20260424T004136
CREATED:20220720T212720Z
LAST-MODIFIED:20220720T225927Z
UID:1398-1659985200-1659992400@roseangelguidance.com
SUMMARY:Angel Guidance - Obtaining What is Wanted
DESCRIPTION:Obtaining What is Wanted in Life \nDo you find yourself wanting that which you do not believe is even possible?   Be it your career\, finances\, relationships\, or having more fun in life.  The Angels want you to know you can have anything you desire\, once you are ready to change. \nIn this class the Angels will help guide you to understand that you have attracted everything you are experiencing in your life\, and to realize the blocks which have been keeping you from receiving what you truly want.  You will learn the steps needed to align with your desires\, and how to begin living the life you have always dreamed of. \nCome join Rose Reaves for inspirational classes that will change the way you live your life.  For the past decade\, Rose has been working with clients by sharing their Angel’s Messages and offering clarity to the questions which arise.   It wasn’t long before she noticed many of her clients receive the same guidance from the Angels.  Wanting to benefit more people\, Rose has taken the top three messages she has repeatedly received and is offering Monday night classes to go over in detail what the Angels have to say on each topic.
URL:https://roseangelguidance.com/event/angel-guidance-class-obtaining-what-is-wanted-in-life/
LOCATION:The Gathering Lighthouse\, 26 North Park Avenue\, Lombard\, IL\, 60148\, United States
CATEGORIES:Angel Guidance Class
ORGANIZER;CN="The Gathering Lighthouse":MAILTO:thegatheringlighthouse@gmail.com
END:VEVENT
BEGIN:VEVENT
DTSTART;TZID=UTC:20220801T190000
DTEND;TZID=UTC:20220801T210000
DTSTAMP:20260424T004136
CREATED:20220720T212403Z
LAST-MODIFIED:20220720T230037Z
UID:1396-1659380400-1659387600@roseangelguidance.com
SUMMARY:Angel Guidance Class - Taking Care of You!
DESCRIPTION:Taking Care of You! \nDo you find yourself constantly helping others?  Are you the person everyone seems to go to when they need assistance?  Do you juggle your own responsibilities because you put other’s needs before yours?  Then this class is for you! \nIn this class the Angels will help guide you to understand the value of taking care of yourself first\, the importance of allowing others to grow and learn\, and how to release the need to take care of everyone around you.  For putting yourself first does not mean you stop helping others\, it means you get to know the real you\, without the guilt or the need to always put yourself last. \nCome join Rose Reaves for inspirational classes that will change the way you live your life.  For the past decade\, Rose has been working with clients by sharing their Angel’s Messages and offering clarity to the questions which arise.   It wasn’t long before she noticed many of her clients receive the same guidance from the Angels.  Wanting to benefit more people\, Rose has taken the top three messages she has repeatedly received and is offering Monday night classes to go over in detail what the Angels have to say on each topic.
URL:https://roseangelguidance.com/event/angel-guidance-class-taking-care-of-you/
LOCATION:The Gathering Lighthouse\, 26 North Park Avenue\, Lombard\, IL\, 60148\, United States
CATEGORIES:Angel Guidance Class
ORGANIZER;CN="The Gathering Lighthouse":MAILTO:thegatheringlighthouse@gmail.com
END:VEVENT
END:VCALENDAR