BEGIN:VCALENDAR
VERSION:2.0
PRODID:-//RoseAngel Guidance - ECPv6.15.20//NONSGML v1.0//EN
CALSCALE:GREGORIAN
METHOD:PUBLISH
X-WR-CALNAME:RoseAngel Guidance
X-ORIGINAL-URL:https://roseangelguidance.com
X-WR-CALDESC:Events for RoseAngel Guidance
REFRESH-INTERVAL;VALUE=DURATION:PT1H
X-Robots-Tag:noindex
X-PUBLISHED-TTL:PT1H
BEGIN:VTIMEZONE
TZID:UTC
BEGIN:STANDARD
TZOFFSETFROM:+0000
TZOFFSETTO:+0000
TZNAME:UTC
DTSTART:20210101T000000
END:STANDARD
END:VTIMEZONE
BEGIN:VTIMEZONE
TZID:America/Chicago
BEGIN:DAYLIGHT
TZOFFSETFROM:-0600
TZOFFSETTO:-0500
TZNAME:CDT
DTSTART:20210314T080000
END:DAYLIGHT
BEGIN:STANDARD
TZOFFSETFROM:-0500
TZOFFSETTO:-0600
TZNAME:CST
DTSTART:20211107T070000
END:STANDARD
BEGIN:DAYLIGHT
TZOFFSETFROM:-0600
TZOFFSETTO:-0500
TZNAME:CDT
DTSTART:20220313T080000
END:DAYLIGHT
BEGIN:STANDARD
TZOFFSETFROM:-0500
TZOFFSETTO:-0600
TZNAME:CST
DTSTART:20221106T070000
END:STANDARD
BEGIN:DAYLIGHT
TZOFFSETFROM:-0600
TZOFFSETTO:-0500
TZNAME:CDT
DTSTART:20230312T080000
END:DAYLIGHT
BEGIN:STANDARD
TZOFFSETFROM:-0500
TZOFFSETTO:-0600
TZNAME:CST
DTSTART:20231105T070000
END:STANDARD
END:VTIMEZONE
BEGIN:VEVENT
DTSTART;TZID=UTC:20220724T100000
DTEND;TZID=UTC:20220724T120000
DTSTAMP:20260424T002559
CREATED:20220720T211502Z
LAST-MODIFIED:20220720T230200Z
UID:1393-1658656800-1658664000@roseangelguidance.com
SUMMARY:Understanding Automatic Writing
DESCRIPTION:Have you ever wondered what it would be like to communicate with Infinite Intelligence? \nWe all have it in us to receive answers to all our questions. In this class you will discover how to tap into your inner guidance\, and learn the tools needed to let go of any blocks which keep you from receiving messages. \nCome join us in the fun and excitement of tapping into your own inner communication\, and bring home the ability to open the doors to endless knowledge.
URL:https://roseangelguidance.com/event/understanding-automatic-writing/
LOCATION:The Gathering Lighthouse\, 26 North Park Avenue\, Lombard\, IL\, 60148\, United States
CATEGORIES:Automatic Writing Class
ORGANIZER;CN="The Gathering Lighthouse":MAILTO:thegatheringlighthouse@gmail.com
END:VEVENT
BEGIN:VEVENT
DTSTART;TZID=America/Chicago:20220314T190000
DTEND;TZID=America/Chicago:20220314T210000
DTSTAMP:20260424T002559
CREATED:20220305T233504Z
LAST-MODIFIED:20220309T183509Z
UID:1329-1647284400-1647291600@roseangelguidance.com
SUMMARY:'Understanding Automatic Writing' Class
DESCRIPTION:  \nCome join me at the  \n ‘Understanding Automatic Writing’ Class \n  \nThe Gathering Lighthouse\, 26 N. Park Avenue\, Lombard\, IL on Monday\, March 14th at 7:00 pm to 9:00 pm.   \nCome join us for this fun filled class with games that will help you learn the tools \nneeded to communicate with your higher self!\n  \n  \n \n  \nUnderstanding Automatic Writing\n  \nHave you ever wondered what it would be like to communicate with Infinite Intelligence? \nWe all have it in us to receive answers to all our questions. In this class you will discover how to tap into your inner guidance\, and learn the tools needed to let go of any blocks which keep you from receiving messages. \nCome join us in the fun and excitement of tapping into your own inner communication\, and bring home the ability to open the doors to endless knowledge. \nhttps://www.thegatheringlighthouse.org/event \nClass Facilitator: Rose Reaves \nRose Reaves communicates with the Angels through intuition\, and by means of Automatic Writing. She is the author of ‘Follow Your Heart\, For It Always Lead You Home’ a book of angelic messages\, and the founder of ‘RoseAngel Guidance’. \n  \nCLICK HERE TO GET TICKETS NOW!\n 
URL:https://roseangelguidance.com/event/understanding-automatic-writing-class/
LOCATION:The Gathering Lighthouse\, 26 North Park Avenue\, Lombard\, IL\, 60148\, United States
CATEGORIES:Automatic Writing Class
ATTACH;FMTTYPE=image/jpeg:https://roseangelguidance.com/wp-content/uploads/2022/03/penrosepetals.jpg
ORGANIZER;CN="The Gathering Lighthouse":MAILTO:thegatheringlighthouse@gmail.com
END:VEVENT
END:VCALENDAR