BEGIN:VCALENDAR
VERSION:2.0
PRODID:-//RoseAngel Guidance - ECPv6.15.20//NONSGML v1.0//EN
CALSCALE:GREGORIAN
METHOD:PUBLISH
X-WR-CALNAME:RoseAngel Guidance
X-ORIGINAL-URL:https://roseangelguidance.com
X-WR-CALDESC:Events for RoseAngel Guidance
REFRESH-INTERVAL;VALUE=DURATION:PT1H
X-Robots-Tag:noindex
X-PUBLISHED-TTL:PT1H
BEGIN:VTIMEZONE
TZID:UTC
BEGIN:STANDARD
TZOFFSETFROM:+0000
TZOFFSETTO:+0000
TZNAME:UTC
DTSTART:20200101T000000
END:STANDARD
END:VTIMEZONE
BEGIN:VEVENT
DTSTART;TZID=UTC:20230603T100000
DTEND;TZID=UTC:20230604T180000
DTSTAMP:20260423T231509
CREATED:20230528T233308Z
LAST-MODIFIED:20230528T233308Z
UID:1529-1685786400-1685901600@roseangelguidance.com
SUMMARY:Body Mind Spirit Expo - Tinley Park
DESCRIPTION:Chicago-Tinley Park: Rediscover the Magic in the World\, and Yourself!\nThe time is NOW. Emerge into your brilliant future with the holistic community! Explore our incredible selection of the nation’s finest psychics and mediums\, the best in alternative health\, wellness tools\, products and resources. Then\, expand your insights and take in learning sessions and presentations featuring psychics\, experts and holistic practitioners at the top of their fields! You’ll have a blast and find just what you need at the Body Mind Spirit Celebration. So bring a friend & enjoy a fun\, insight-filled weekend with us! \nCome see RoseAngel give the presentation “Creating Your Life with Angelic Guidance” Sunday June 4th – Stage 1 10:00 AM \nOr come see RoseAngel for your very own Angelic Guidance Reading both days! \nClick Here to Buy Tickets Now! \nLocation\nTinley Park\,\nJune 3- 4\, 2023\nOpening Hours\nSaturday 10-7\, Sunday 10-6 \nTinley Park Convention Center\,\n18451 Convention Center Drive\,\nTinley Park\, IL.\nGetting there \nAdmission $15 \n 
URL:https://roseangelguidance.com/event/body-mind-spirit-expo-tinley-park/
LOCATION:Tinley Park Convention Center\, 18451 Convention Center Drive\, Tinley Park\, IL\, 60477\, United States
CATEGORIES:Body Mind Spirit Expo
ATTACH;FMTTYPE=image/jpeg:https://roseangelguidance.com/wp-content/uploads/2023/05/received_1220971611937163.jpeg
END:VEVENT
BEGIN:VEVENT
DTSTART;TZID=UTC:20221029T100000
DTEND;TZID=UTC:20221029T180000
DTSTAMP:20260423T231509
CREATED:20220906T192441Z
LAST-MODIFIED:20220906T192441Z
UID:1455-1667037600-1667066400@roseangelguidance.com
SUMMARY:Body\, Mind\, Spirit Expo in Northlake
DESCRIPTION:I will be at the Body Mind Spirit Celebration in Northlake!  Come see me at booth # 11 all weekend.  On Sunday\, October 30th at 10 am I will be on Stage 1 talking about what the Angels say about creating the life you want\, and aligning with your desires.
URL:https://roseangelguidance.com/event/body-mind-spirit-expo-in-northlake/
LOCATION:Midwest Conference Center – Northlake\, 401 W Lake St\, Northlake\, IL\, 60164\, United States
CATEGORIES:Body Mind Spirit Expo
END:VEVENT
BEGIN:VEVENT
DTSTART;TZID=UTC:20211023T100000
DTEND;TZID=UTC:20211024T180000
DTSTAMP:20260423T231509
CREATED:20211002T193537Z
LAST-MODIFIED:20211002T193537Z
UID:1288-1634983200-1635098400@roseangelguidance.com
SUMMARY:Body\, Mind\, Spirit Celebration Expo - Chicago Northlake
DESCRIPTION:Come see RoseAngel Guidance speak and get your own in-person Angel Writing!\n \nBUY TICKETS NOW!\nChicago-Northlake: The Emerge Into Your Brilliant Future Tour\nLocation\nChicago (Northlake)\,\nOctober 23-24\, 2021\nOpening Hours\nSaturday 10-7\, Sunday 10-6 \nMidwest Conference Center\,\n401 W Lake St\,\nChicago (Northlake)\, IL. \nJoin Body Mind Spirit Celebration as we bring our fabulous holistic living festival back to Chicagoland! Take in our live performances featuring entertaining music\, dance\, and spoken word. Then\, explore our incredible selection of the nation’s finest psychics and mediums\, the best in alternative health\, wellness tools\, products and resources. You’ll have a blast and find just what you need at the Northlake Body Mind Spirit Festival. So bring a friend & enjoy a fun\, insight-filled weekend with us! \n  \nRose of RoseAngel Guidance is a featured performer at the Chicago-Northlake Body\, Mind\, Spirit Celebration expo and will be giving a speech titled “Angelic Guidance\, What are they Saying?” and will be available for in-person Angel Guidance automatic writings. Stop by for an Angel Guidance writing or to purchase a signed copy of the amazingly insightful RoseAngel Guidance book titled “Follow your Heart\, for it Always Leads you Home.” 
URL:https://roseangelguidance.com/event/body-mind-spirit-celebration-expo-chicago-northlake/
LOCATION:Midwest Conference Center – Northlake\, 401 W Lake St\, Northlake\, IL\, 60164\, United States
CATEGORIES:Body Mind Spirit Expo
END:VEVENT
END:VCALENDAR